BEGIN:VCALENDAR
VERSION:2.0
PRODID:-//Colegio Santa Ines - ECPv6.15.8//NONSGML v1.0//EN
CALSCALE:GREGORIAN
METHOD:PUBLISH
X-ORIGINAL-URL:https://www.colegiosantainescampestre.edu.co
X-WR-CALDESC:Eventos para Colegio Santa Ines
REFRESH-INTERVAL;VALUE=DURATION:PT1H
X-Robots-Tag:noindex
X-PUBLISHED-TTL:PT1H
BEGIN:VTIMEZONE
TZID:America/Bogota
BEGIN:STANDARD
TZOFFSETFROM:-0500
TZOFFSETTO:-0500
TZNAME:-05
DTSTART:20210101T000000
END:STANDARD
END:VTIMEZONE
BEGIN:VEVENT
DTSTART;VALUE=DATE:20221207
DTEND;VALUE=DATE:20221208
DTSTAMP:20260422T011145
CREATED:20221007T170959Z
LAST-MODIFIED:20221007T170959Z
UID:1125-1670371200-1670457599@www.colegiosantainescampestre.edu.co
SUMMARY:HOMENAJE A LA INMACULADA Y ALUMBRADO
DESCRIPTION:
URL:https://www.colegiosantainescampestre.edu.co/event/homenaje-a-la-inmaculada-y-alumbrado/
END:VEVENT
BEGIN:VEVENT
DTSTART;TZID=America/Bogota:20221206T080000
DTEND;TZID=America/Bogota:20221206T100000
DTSTAMP:20260422T011145
CREATED:20221007T170743Z
LAST-MODIFIED:20221007T170743Z
UID:1119-1670313600-1670320800@www.colegiosantainescampestre.edu.co
SUMMARY:NOVENA DIA 3
DESCRIPTION:
URL:https://www.colegiosantainescampestre.edu.co/event/novena-dia-3/
END:VEVENT
BEGIN:VEVENT
DTSTART;VALUE=DATE:20221206
DTEND;VALUE=DATE:20221207
DTSTAMP:20260422T011145
CREATED:20221007T170915Z
LAST-MODIFIED:20221007T170915Z
UID:1123-1670284800-1670371199@www.colegiosantainescampestre.edu.co
SUMMARY:REUNIÓN DE PADRES DE FAMILIA GRADO CRISALIDA
DESCRIPTION:
URL:https://www.colegiosantainescampestre.edu.co/event/reunion-de-padres-de-familia-grado-crisalida/
END:VEVENT
BEGIN:VEVENT
DTSTART;TZID=America/Bogota:20221205T080000
DTEND;TZID=America/Bogota:20221205T100000
DTSTAMP:20260422T011145
CREATED:20221007T170657Z
LAST-MODIFIED:20221007T170657Z
UID:1117-1670227200-1670234400@www.colegiosantainescampestre.edu.co
SUMMARY:NOVENA DIA 2
DESCRIPTION:
URL:https://www.colegiosantainescampestre.edu.co/event/novena-dia-2/
END:VEVENT
BEGIN:VEVENT
DTSTART;TZID=America/Bogota:20221205T070000
DTEND;TZID=America/Bogota:20221207T140000
DTSTAMP:20260422T011145
CREATED:20221007T170535Z
LAST-MODIFIED:20221007T170535Z
UID:1113-1670223600-1670421600@www.colegiosantainescampestre.edu.co
SUMMARY:EVALUACIONES INTERMEDIAS PERIODO II
DESCRIPTION:
URL:https://www.colegiosantainescampestre.edu.co/event/evaluaciones-intermedias-periodo-ii/
END:VEVENT
BEGIN:VEVENT
DTSTART;TZID=America/Bogota:20221202T080000
DTEND;TZID=America/Bogota:20221202T100000
DTSTAMP:20260422T011145
CREATED:20221007T170227Z
LAST-MODIFIED:20221007T170227Z
UID:1111-1669968000-1669975200@www.colegiosantainescampestre.edu.co
SUMMARY:NOVENA DIA 1
DESCRIPTION:
URL:https://www.colegiosantainescampestre.edu.co/event/novena-dia-1/
END:VEVENT
BEGIN:VEVENT
DTSTART;TZID=America/Bogota:20221130T080000
DTEND;TZID=America/Bogota:20221130T120000
DTSTAMP:20260422T011145
CREATED:20221007T170126Z
LAST-MODIFIED:20221007T170126Z
UID:1109-1669795200-1669809600@www.colegiosantainescampestre.edu.co
SUMMARY:PROYECTO DESCUBRIENDO AMIGOS
DESCRIPTION:Aplica para grado de Crisálida a Transición.
URL:https://www.colegiosantainescampestre.edu.co/event/proyecto-descubriendo-amigos/
END:VEVENT
BEGIN:VEVENT
DTSTART;VALUE=DATE:20221129
DTEND;VALUE=DATE:20221202
DTSTAMP:20260422T011145
CREATED:20221112T140842Z
LAST-MODIFIED:20221112T140909Z
UID:1269-1669680000-1669939199@www.colegiosantainescampestre.edu.co
SUMMARY:Escuela de padres de familia y reunión para entrega de boletines I Periodo
DESCRIPTION:
URL:https://www.colegiosantainescampestre.edu.co/event/escuela-de-padres-de-familia-y-reunion-para-entrega-de-boletines/
END:VEVENT
BEGIN:VEVENT
DTSTART;VALUE=DATE:20221128
DTEND;VALUE=DATE:20221129
DTSTAMP:20260422T011145
CREATED:20221007T165802Z
LAST-MODIFIED:20221112T140537Z
UID:1103-1669593600-1669679999@www.colegiosantainescampestre.edu.co
SUMMARY:IZADA DE BANDERA I PERIODO
DESCRIPTION:
URL:https://www.colegiosantainescampestre.edu.co/event/izada-de-bandera-i-periodo/
END:VEVENT
BEGIN:VEVENT
DTSTART;VALUE=DATE:20221125
DTEND;VALUE=DATE:20221126
DTSTAMP:20260422T011145
CREATED:20221007T170022Z
LAST-MODIFIED:20221007T170022Z
UID:1107-1669334400-1669420799@www.colegiosantainescampestre.edu.co
SUMMARY:COMITÉ DE CONVIVENCIA I PERIODO
DESCRIPTION:
URL:https://www.colegiosantainescampestre.edu.co/event/comite-de-convivencia-i-periodo/
END:VEVENT
BEGIN:VEVENT
DTSTART;VALUE=DATE:20221125
DTEND;VALUE=DATE:20221126
DTSTAMP:20260422T011145
CREATED:20221007T165947Z
LAST-MODIFIED:20221007T165947Z
UID:1105-1669334400-1669420799@www.colegiosantainescampestre.edu.co
SUMMARY:COMISIÓN DE EVALUACIÓN Y PROMOCIÓN I PERIODO
DESCRIPTION:
URL:https://www.colegiosantainescampestre.edu.co/event/comision-de-evaluacion-y-promocion-i-periodo/
END:VEVENT
BEGIN:VEVENT
DTSTART;VALUE=DATE:20221121
DTEND;VALUE=DATE:20221126
DTSTAMP:20260422T011145
CREATED:20221007T165721Z
LAST-MODIFIED:20221007T165833Z
UID:1101-1668988800-1669420799@www.colegiosantainescampestre.edu.co
SUMMARY:RECUPERACIONES PERIODO I
DESCRIPTION:
URL:https://www.colegiosantainescampestre.edu.co/event/recuperaciones-periodo-i/
END:VEVENT
BEGIN:VEVENT
DTSTART;VALUE=DATE:20221115
DTEND;VALUE=DATE:20221116
DTSTAMP:20260422T011145
CREATED:20221007T165035Z
LAST-MODIFIED:20221112T140425Z
UID:1095-1668470400-1668556799@www.colegiosantainescampestre.edu.co
SUMMARY:INICIO PERIODO II
DESCRIPTION:
URL:https://www.colegiosantainescampestre.edu.co/event/inicio-periodo-ii/
END:VEVENT
BEGIN:VEVENT
DTSTART;VALUE=DATE:20221111
DTEND;VALUE=DATE:20221112
DTSTAMP:20260422T011145
CREATED:20221007T165605Z
LAST-MODIFIED:20221007T165605Z
UID:1099-1668124800-1668211199@www.colegiosantainescampestre.edu.co
SUMMARY:PROYECTO DE INDEPENDENCIA DE CARTAGENA
DESCRIPTION:
URL:https://www.colegiosantainescampestre.edu.co/event/proyecto-de-independencia-de-cartagena/
END:VEVENT
BEGIN:VEVENT
DTSTART;VALUE=DATE:20221104
DTEND;VALUE=DATE:20221105
DTSTAMP:20260422T011145
CREATED:20221007T164725Z
LAST-MODIFIED:20221007T164725Z
UID:1093-1667520000-1667606399@www.colegiosantainescampestre.edu.co
SUMMARY:FINALIZA EL  PERIODO I
DESCRIPTION:
URL:https://www.colegiosantainescampestre.edu.co/event/finaliza-el-periodo-i/
END:VEVENT
BEGIN:VEVENT
DTSTART;VALUE=DATE:20221101
DTEND;VALUE=DATE:20221105
DTSTAMP:20260422T011145
CREATED:20221007T164449Z
LAST-MODIFIED:20221007T164449Z
UID:1091-1667260800-1667606399@www.colegiosantainescampestre.edu.co
SUMMARY:EVALUACIONES FINALES DEL I PERIODO
DESCRIPTION:
URL:https://www.colegiosantainescampestre.edu.co/event/evaluaciones-finales-del-i-periodo/
END:VEVENT
BEGIN:VEVENT
DTSTART;VALUE=DATE:20221028
DTEND;VALUE=DATE:20221029
DTSTAMP:20260422T011145
CREATED:20221007T163908Z
LAST-MODIFIED:20221007T163931Z
UID:1088-1666915200-1667001599@www.colegiosantainescampestre.edu.co
SUMMARY:DÍA DE LA FANTASÍA
DESCRIPTION:
URL:https://www.colegiosantainescampestre.edu.co/event/dia-de-la-fantasia/
ATTACH;FMTTYPE=image/jpeg:https://www.colegiosantainescampestre.edu.co/wp-content/uploads/2022/10/WhatsApp-Image-2022-10-03-at-1.50.21-PM.jpeg
END:VEVENT
BEGIN:VEVENT
DTSTART;VALUE=DATE:20221020
DTEND;VALUE=DATE:20221021
DTSTAMP:20260422T011145
CREATED:20221007T163651Z
LAST-MODIFIED:20221007T163651Z
UID:1086-1666224000-1666310399@www.colegiosantainescampestre.edu.co
SUMMARY:PLAN DE ACCION DE PERSONERIA\, MULTICULTURALIDAD Y JORNADA POR LA PAZ
DESCRIPTION:
URL:https://www.colegiosantainescampestre.edu.co/event/plan-de-accion-de-personeria-multiculturalidad-y-jornada-por-la-paz/
END:VEVENT
BEGIN:VEVENT
DTSTART;VALUE=DATE:20221010
DTEND;VALUE=DATE:20221015
DTSTAMP:20260422T011145
CREATED:20221007T163520Z
LAST-MODIFIED:20221007T163520Z
UID:1084-1665360000-1665791999@www.colegiosantainescampestre.edu.co
SUMMARY:SEMANA DE RECESO
DESCRIPTION:
URL:https://www.colegiosantainescampestre.edu.co/event/semana-de-receso/
END:VEVENT
BEGIN:VEVENT
DTSTART;VALUE=DATE:20221007
DTEND;VALUE=DATE:20221008
DTSTAMP:20260422T011145
CREATED:20221007T163344Z
LAST-MODIFIED:20221007T163438Z
UID:1082-1665100800-1665187199@www.colegiosantainescampestre.edu.co
SUMMARY:DEBATE Y VOTACIONES PERSONERIA
DESCRIPTION:
URL:https://www.colegiosantainescampestre.edu.co/event/debate-y-votaciones-personeria/
END:VEVENT
BEGIN:VEVENT
DTSTART;VALUE=DATE:20221003
DTEND;VALUE=DATE:20221008
DTSTAMP:20260422T011145
CREATED:20221007T163214Z
LAST-MODIFIED:20221007T163214Z
UID:1080-1664755200-1665187199@www.colegiosantainescampestre.edu.co
SUMMARY:EVALUACIONES INTERMEDIAS P-I
DESCRIPTION:
URL:https://www.colegiosantainescampestre.edu.co/event/evaluaciones-intermedias-p-i/
END:VEVENT
BEGIN:VEVENT
DTSTART;VALUE=DATE:20220930
DTEND;VALUE=DATE:20221001
DTSTAMP:20260422T011145
CREATED:20220809T160244Z
LAST-MODIFIED:20220809T160244Z
UID:970-1664496000-1664582399@www.colegiosantainescampestre.edu.co
SUMMARY:Preparación para la primera comunion y confirmacion
DESCRIPTION:
URL:https://www.colegiosantainescampestre.edu.co/event/preparacion-para-la-primera-comunion-y-confirmacion/
END:VEVENT
BEGIN:VEVENT
DTSTART;VALUE=DATE:20220928
DTEND;VALUE=DATE:20220929
DTSTAMP:20260422T011145
CREATED:20220809T160227Z
LAST-MODIFIED:20220809T160227Z
UID:968-1664323200-1664409599@www.colegiosantainescampestre.edu.co
SUMMARY:Revisión de empresas.
DESCRIPTION:
URL:https://www.colegiosantainescampestre.edu.co/event/revision-de-empresas/
END:VEVENT
BEGIN:VEVENT
DTSTART;VALUE=DATE:20220927
DTEND;VALUE=DATE:20220928
DTSTAMP:20260422T011145
CREATED:20220809T160210Z
LAST-MODIFIED:20220809T160210Z
UID:966-1664236800-1664323199@www.colegiosantainescampestre.edu.co
SUMMARY:Listado de primera confirmación y primera comunion
DESCRIPTION:
URL:https://www.colegiosantainescampestre.edu.co/event/listado-de-primera-confirmacion-y-primera-comunion/
END:VEVENT
BEGIN:VEVENT
DTSTART;VALUE=DATE:20220923
DTEND;VALUE=DATE:20220924
DTSTAMP:20260422T011145
CREATED:20220809T160152Z
LAST-MODIFIED:20220809T160152Z
UID:964-1663891200-1663977599@www.colegiosantainescampestre.edu.co
SUMMARY:Entrega de circular para la preparación de las primeras comuniones y confirmaciones.
DESCRIPTION:
URL:https://www.colegiosantainescampestre.edu.co/event/entrega-de-circular-para-la-preparacion-de-las-primeras-comuniones-y-confirmaciones/
END:VEVENT
BEGIN:VEVENT
DTSTART;VALUE=DATE:20220916
DTEND;VALUE=DATE:20220917
DTSTAMP:20260422T011145
CREATED:20220809T160127Z
LAST-MODIFIED:20220809T160127Z
UID:962-1663286400-1663372799@www.colegiosantainescampestre.edu.co
SUMMARY:Ejecución del proyecto dia de la amistad
DESCRIPTION:
URL:https://www.colegiosantainescampestre.edu.co/event/ejecucion-del-proyecto-dia-de-la-amistad/
END:VEVENT
BEGIN:VEVENT
DTSTART;VALUE=DATE:20220913
DTEND;VALUE=DATE:20220914
DTSTAMP:20260422T011145
CREATED:20220809T160105Z
LAST-MODIFIED:20220809T160105Z
UID:960-1663027200-1663113599@www.colegiosantainescampestre.edu.co
SUMMARY:Reunión de padres de familia
DESCRIPTION:
URL:https://www.colegiosantainescampestre.edu.co/event/reunion-de-padres-de-familia/
END:VEVENT
BEGIN:VEVENT
DTSTART;VALUE=DATE:20220907
DTEND;VALUE=DATE:20220908
DTSTAMP:20260422T011145
CREATED:20220809T160032Z
LAST-MODIFIED:20220809T160032Z
UID:958-1662508800-1662595199@www.colegiosantainescampestre.edu.co
SUMMARY:Ingreso de estudiantes de primaria y secundaria-
DESCRIPTION:
URL:https://www.colegiosantainescampestre.edu.co/event/ingreso-de-estudiantes-de-primaria-y-secundaria/
END:VEVENT
BEGIN:VEVENT
DTSTART;VALUE=DATE:20220906
DTEND;VALUE=DATE:20220907
DTSTAMP:20260422T011145
CREATED:20220809T155926Z
LAST-MODIFIED:20220809T155926Z
UID:956-1662422400-1662508799@www.colegiosantainescampestre.edu.co
SUMMARY:Ingreso de estudiantes de preescolar a grado 2°.
DESCRIPTION:
URL:https://www.colegiosantainescampestre.edu.co/event/ingreso-de-estudiantes-de-preescolar-a-grado-2/
END:VEVENT
BEGIN:VEVENT
DTSTART;VALUE=DATE:20220905
DTEND;VALUE=DATE:20220906
DTSTAMP:20260422T011145
CREATED:20220809T155859Z
LAST-MODIFIED:20220809T155859Z
UID:954-1662336000-1662422399@www.colegiosantainescampestre.edu.co
SUMMARY:Decoración del Colegio
DESCRIPTION:
URL:https://www.colegiosantainescampestre.edu.co/event/decoracion-del-colegio/
END:VEVENT
END:VCALENDAR