BEGIN:VCALENDAR
VERSION:2.0
PRODID:-//Colegio Santa Ines - ECPv6.15.8//NONSGML v1.0//EN
CALSCALE:GREGORIAN
METHOD:PUBLISH
X-ORIGINAL-URL:https://www.colegiosantainescampestre.edu.co
X-WR-CALDESC:Eventos para Colegio Santa Ines
REFRESH-INTERVAL;VALUE=DURATION:PT1H
X-Robots-Tag:noindex
X-PUBLISHED-TTL:PT1H
BEGIN:VTIMEZONE
TZID:America/Bogota
BEGIN:STANDARD
TZOFFSETFROM:-0500
TZOFFSETTO:-0500
TZNAME:-05
DTSTART:20230101T000000
END:STANDARD
END:VTIMEZONE
BEGIN:VEVENT
DTSTART;TZID=America/Bogota:20240919T173000
DTEND;TZID=America/Bogota:20240919T190000
DTSTAMP:20260421T095803
CREATED:20241019T153335Z
LAST-MODIFIED:20241019T153335Z
UID:1648-1726767000-1726772400@www.colegiosantainescampestre.edu.co
SUMMARY:REUNION GENERAL DE PADRES DE FAMILIA
DESCRIPTION:
URL:https://www.colegiosantainescampestre.edu.co/event/reunion-general-de-padres-de-familia/
END:VEVENT
BEGIN:VEVENT
DTSTART;TZID=America/Bogota:20240917T080000
DTEND;TZID=America/Bogota:20240917T170000
DTSTAMP:20260421T095803
CREATED:20241019T153116Z
LAST-MODIFIED:20241019T153132Z
UID:1646-1726560000-1726592400@www.colegiosantainescampestre.edu.co
SUMMARY:ELECCION VOCEROS DE GRUPO Y POSTULACION DE REPRESENTANTES A PERSONERIA
DESCRIPTION:
URL:https://www.colegiosantainescampestre.edu.co/event/eleccion-voceros-de-grupo-y-postulacion-de-representantes-a-personeria-2/
END:VEVENT
BEGIN:VEVENT
DTSTART;VALUE=DATE:20240911
DTEND;VALUE=DATE:20240912
DTSTAMP:20260421T095803
CREATED:20241019T152229Z
LAST-MODIFIED:20241019T152229Z
UID:1640-1726012800-1726099199@www.colegiosantainescampestre.edu.co
SUMMARY:INICIO DEL PRIMER PERIODO AÑO LECTIVO 2024-2025
DESCRIPTION:
URL:https://www.colegiosantainescampestre.edu.co/event/inicio-del-primer-periodo-ano-lectivo-2024-2025/
END:VEVENT
BEGIN:VEVENT
DTSTART;TZID=America/Bogota:20240910T080000
DTEND;TZID=America/Bogota:20240910T170000
DTSTAMP:20260421T095803
CREATED:20241019T152942Z
LAST-MODIFIED:20241019T153014Z
UID:1644-1725955200-1725987600@www.colegiosantainescampestre.edu.co
SUMMARY:INGRESO ESTUDIANTES Y BIENVENIDA GRADO TERCERO A ONCE
DESCRIPTION:
URL:https://www.colegiosantainescampestre.edu.co/event/ingreso-estudiantes-y-bienvenida-grado-tercero-a-once/
END:VEVENT
BEGIN:VEVENT
DTSTART;TZID=America/Bogota:20240909T080000
DTEND;TZID=America/Bogota:20240909T170000
DTSTAMP:20260421T095803
CREATED:20241019T152332Z
LAST-MODIFIED:20241019T152706Z
UID:1642-1725868800-1725901200@www.colegiosantainescampestre.edu.co
SUMMARY:INGRESO ESTUDIANTES Y BIENVENIDA GRADO CRISALIDA A SEGUNDO
DESCRIPTION:
URL:https://www.colegiosantainescampestre.edu.co/event/ingreso-estudiantes-y-bienvenida-grado-crisalida-a-segundo/
END:VEVENT
BEGIN:VEVENT
DTSTART;TZID=America/Bogota:20240628T170000
DTEND;TZID=America/Bogota:20240628T203000
DTSTAMP:20260421T095803
CREATED:20240424T205316Z
LAST-MODIFIED:20240424T205316Z
UID:1579-1719594000-1719606600@www.colegiosantainescampestre.edu.co
SUMMARY:EUCARISTIA Y CEREMONIA PROM`24
DESCRIPTION:
URL:https://www.colegiosantainescampestre.edu.co/event/eucaristia-y-ceremonia-prom24/
END:VEVENT
BEGIN:VEVENT
DTSTART;TZID=America/Bogota:20240621T080000
DTEND;TZID=America/Bogota:20240621T123000
DTSTAMP:20260421T095803
CREATED:20240424T205214Z
LAST-MODIFIED:20240424T205214Z
UID:1577-1718956800-1718973000@www.colegiosantainescampestre.edu.co
SUMMARY:GRADO TRANSICION Y GRADO QUINTO
DESCRIPTION:
URL:https://www.colegiosantainescampestre.edu.co/event/grado-transicion-y-grado-quinto/
END:VEVENT
BEGIN:VEVENT
DTSTART;TZID=America/Bogota:20240620T080000
DTEND;TZID=America/Bogota:20240620T123000
DTSTAMP:20260421T095803
CREATED:20240424T205131Z
LAST-MODIFIED:20240424T205131Z
UID:1575-1718870400-1718886600@www.colegiosantainescampestre.edu.co
SUMMARY:CLAUSURA GRADOS CRISALIDA\, PREJARDIN Y JARDIN
DESCRIPTION:
URL:https://www.colegiosantainescampestre.edu.co/event/clausura-grados-crisalida-prejardin-y-jardin/
END:VEVENT
BEGIN:VEVENT
DTSTART;VALUE=DATE:20240619
DTEND;VALUE=DATE:20240620
DTSTAMP:20260421T095803
CREATED:20240424T204946Z
LAST-MODIFIED:20240424T204946Z
UID:1571-1718755200-1718841599@www.colegiosantainescampestre.edu.co
SUMMARY:PROYECTO DESCUBRIENDO AMIGOS ( APLICA SOLO PARA PREESCOLAR)
DESCRIPTION:
URL:https://www.colegiosantainescampestre.edu.co/event/proyecto-descubriendo-amigos-aplica-solo-para-preescolar/
END:VEVENT
BEGIN:VEVENT
DTSTART;VALUE=DATE:20240619
DTEND;VALUE=DATE:20240620
DTSTAMP:20260421T095803
CREATED:20240424T204841Z
LAST-MODIFIED:20240424T204841Z
UID:1569-1718755200-1718841599@www.colegiosantainescampestre.edu.co
SUMMARY:DESPEDIDA GRADO DECIMO A ONCE
DESCRIPTION:
URL:https://www.colegiosantainescampestre.edu.co/event/despedida-grado-decimo-a-once/
END:VEVENT
BEGIN:VEVENT
DTSTART;TZID=America/Bogota:20240618T080000
DTEND;TZID=America/Bogota:20240618T100000
DTSTAMP:20260421T095803
CREATED:20240424T204810Z
LAST-MODIFIED:20240424T204810Z
UID:1567-1718697600-1718704800@www.colegiosantainescampestre.edu.co
SUMMARY:CRUCE DE BANDERAS GRADO DECIMO Y ONCE
DESCRIPTION:
URL:https://www.colegiosantainescampestre.edu.co/event/cruce-de-banderas-grado-decimo-y-once/
END:VEVENT
BEGIN:VEVENT
DTSTART;VALUE=DATE:20240618
DTEND;VALUE=DATE:20240619
DTSTAMP:20260421T095803
CREATED:20240424T203715Z
LAST-MODIFIED:20240424T203715Z
UID:1543-1718668800-1718755199@www.colegiosantainescampestre.edu.co
SUMMARY:CLAUSURA GENERAL AÑO LECTIVO 2023-2024
DESCRIPTION:
URL:https://www.colegiosantainescampestre.edu.co/event/clausura-general-ano-lectivo-2023-2024/
END:VEVENT
BEGIN:VEVENT
DTSTART;TZID=America/Bogota:20240614T080000
DTEND;TZID=America/Bogota:20240619T123000
DTSTAMP:20260421T095803
CREATED:20240424T205042Z
LAST-MODIFIED:20240424T205042Z
UID:1573-1718352000-1718800200@www.colegiosantainescampestre.edu.co
SUMMARY:ENSAYOS CLAUSURA PREESCOLAR\, GRADO TRANSICION Y GRADO QUINTO
DESCRIPTION:
URL:https://www.colegiosantainescampestre.edu.co/event/ensayos-clausura-preescolar-grado-transicion-y-grado-quinto/
END:VEVENT
BEGIN:VEVENT
DTSTART;VALUE=DATE:20240614
DTEND;VALUE=DATE:20240615
DTSTAMP:20260421T095803
CREATED:20240424T203635Z
LAST-MODIFIED:20240424T203635Z
UID:1541-1718323200-1718409599@www.colegiosantainescampestre.edu.co
SUMMARY:ENTREGA DE DOCUMENTOS PARA MATRICULA AÑO LECTIVO 2024-2025
DESCRIPTION:
URL:https://www.colegiosantainescampestre.edu.co/event/entrega-de-documentos-para-matricula-ano-lectivo-2024-2025/
END:VEVENT
BEGIN:VEVENT
DTSTART;VALUE=DATE:20240614
DTEND;VALUE=DATE:20240615
DTSTAMP:20260421T095803
CREATED:20240424T203501Z
LAST-MODIFIED:20240424T203501Z
UID:1539-1718323200-1718409599@www.colegiosantainescampestre.edu.co
SUMMARY:ORGANIZACION\, ASEO Y ENTREGA DE AULAS DE CLASES POR ESTUDIANTES Y DOCENTES DIRECTORE DE GRUPO
DESCRIPTION:
URL:https://www.colegiosantainescampestre.edu.co/event/organizacion-aseo-y-entrega-de-aulas-de-clases-por-estudiantes-y-docentes-directore-de-grupo/
END:VEVENT
BEGIN:VEVENT
DTSTART;TZID=America/Bogota:20240609T080000
DTEND;TZID=America/Bogota:20240609T170000
DTSTAMP:20260421T095803
CREATED:20240424T204733Z
LAST-MODIFIED:20240424T204733Z
UID:1565-1717920000-1717952400@www.colegiosantainescampestre.edu.co
SUMMARY:FELIZ INESANO
DESCRIPTION:
URL:https://www.colegiosantainescampestre.edu.co/event/feliz-inesano/
END:VEVENT
BEGIN:VEVENT
DTSTART;TZID=America/Bogota:20240608T080000
DTEND;TZID=America/Bogota:20240608T170000
DTSTAMP:20260421T095803
CREATED:20240424T204704Z
LAST-MODIFIED:20240424T204704Z
UID:1563-1717833600-1717866000@www.colegiosantainescampestre.edu.co
SUMMARY:PRIMERAS COMUNIONES
DESCRIPTION:
URL:https://www.colegiosantainescampestre.edu.co/event/primeras-comuniones/
END:VEVENT
BEGIN:VEVENT
DTSTART;TZID=America/Bogota:20240607T080000
DTEND;TZID=America/Bogota:20240607T170000
DTSTAMP:20260421T095803
CREATED:20240424T204441Z
LAST-MODIFIED:20240424T204441Z
UID:1561-1717747200-1717779600@www.colegiosantainescampestre.edu.co
SUMMARY:CONFIRMACIONES
DESCRIPTION:
URL:https://www.colegiosantainescampestre.edu.co/event/confirmaciones/
END:VEVENT
BEGIN:VEVENT
DTSTART;TZID=America/Bogota:20240606T080000
DTEND;TZID=America/Bogota:20240613T140000
DTSTAMP:20260421T095803
CREATED:20240424T204337Z
LAST-MODIFIED:20240424T204337Z
UID:1559-1717660800-1718287200@www.colegiosantainescampestre.edu.co
SUMMARY:SEMANA CULTURAL
DESCRIPTION:
URL:https://www.colegiosantainescampestre.edu.co/event/semana-cultural/
END:VEVENT
BEGIN:VEVENT
DTSTART;TZID=America/Bogota:20240606T063000
DTEND;TZID=America/Bogota:20240613T193000
DTSTAMP:20260421T095803
CREATED:20240424T203400Z
LAST-MODIFIED:20240424T203400Z
UID:1537-1717655400-1718307000@www.colegiosantainescampestre.edu.co
SUMMARY:EVALUACIONES FINALES PERIODO IV
DESCRIPTION:
URL:https://www.colegiosantainescampestre.edu.co/event/evaluaciones-finales-periodo-iv-3/
END:VEVENT
BEGIN:VEVENT
DTSTART;TZID=America/Bogota:20240531T140000
DTEND;TZID=America/Bogota:20240531T193000
DTSTAMP:20260421T095803
CREATED:20240424T204249Z
LAST-MODIFIED:20240424T204249Z
UID:1557-1717164000-1717183800@www.colegiosantainescampestre.edu.co
SUMMARY:TARDE DEPORTIVA
DESCRIPTION:
URL:https://www.colegiosantainescampestre.edu.co/event/tarde-deportiva/
END:VEVENT
BEGIN:VEVENT
DTSTART;VALUE=DATE:20240517
DTEND;VALUE=DATE:20240518
DTSTAMP:20260421T095803
CREATED:20240424T203256Z
LAST-MODIFIED:20240424T203256Z
UID:1535-1715904000-1715990399@www.colegiosantainescampestre.edu.co
SUMMARY:TOMA DE FOTOGRAFIA GRADO ONCE
DESCRIPTION:
URL:https://www.colegiosantainescampestre.edu.co/event/toma-de-fotografia-grado-once/
END:VEVENT
BEGIN:VEVENT
DTSTART;VALUE=DATE:20240516
DTEND;VALUE=DATE:20240517
DTSTAMP:20260421T095803
CREATED:20240424T203225Z
LAST-MODIFIED:20240424T203225Z
UID:1533-1715817600-1715903999@www.colegiosantainescampestre.edu.co
SUMMARY:TOMA DE FOTOGRAFIA GRADO TRANSICION Y GRADO QUINTO
DESCRIPTION:
URL:https://www.colegiosantainescampestre.edu.co/event/toma-de-fotografia-grado-transicion-y-grado-quinto/
END:VEVENT
BEGIN:VEVENT
DTSTART;VALUE=DATE:20240515
DTEND;VALUE=DATE:20240516
DTSTAMP:20260421T095803
CREATED:20240424T204220Z
LAST-MODIFIED:20240424T204220Z
UID:1555-1715731200-1715817599@www.colegiosantainescampestre.edu.co
SUMMARY:EXALTACION AL MESTRO INESANO
DESCRIPTION:
URL:https://www.colegiosantainescampestre.edu.co/event/exaltacion-al-mestro-inesano/
END:VEVENT
BEGIN:VEVENT
DTSTART;TZID=America/Bogota:20240505T100000
DTEND;TZID=America/Bogota:20240505T150000
DTSTAMP:20260421T095803
CREATED:20240424T204147Z
LAST-MODIFIED:20240424T204147Z
UID:1553-1714903200-1714921200@www.colegiosantainescampestre.edu.co
SUMMARY:BUSINESS FAIR PROJECT
DESCRIPTION:
URL:https://www.colegiosantainescampestre.edu.co/event/business-fair-project/
END:VEVENT
BEGIN:VEVENT
DTSTART;VALUE=DATE:20240503
DTEND;VALUE=DATE:20240504
DTSTAMP:20260421T095803
CREATED:20240424T204102Z
LAST-MODIFIED:20240424T204102Z
UID:1551-1714694400-1714780799@www.colegiosantainescampestre.edu.co
SUMMARY:CONFERENCIAS DE EMPRENDIMIENTO
DESCRIPTION:
URL:https://www.colegiosantainescampestre.edu.co/event/conferencias-de-emprendimiento/
END:VEVENT
BEGIN:VEVENT
DTSTART;VALUE=DATE:20240503
DTEND;VALUE=DATE:20240504
DTSTAMP:20260421T095803
CREATED:20240424T203131Z
LAST-MODIFIED:20240424T203131Z
UID:1531-1714694400-1714780799@www.colegiosantainescampestre.edu.co
SUMMARY:ENTREGA DE INFORME VALORATIVO PERIODO III
DESCRIPTION:
URL:https://www.colegiosantainescampestre.edu.co/event/entrega-de-informe-valorativo-periodo-iii/
END:VEVENT
BEGIN:VEVENT
DTSTART;VALUE=DATE:20240430
DTEND;VALUE=DATE:20240501
DTSTAMP:20260421T095803
CREATED:20240424T204006Z
LAST-MODIFIED:20240424T204006Z
UID:1549-1714435200-1714521599@www.colegiosantainescampestre.edu.co
SUMMARY:DIA DEL NIÑO Y LA RECREACION (CLUB CAMPESTRE)
DESCRIPTION:
URL:https://www.colegiosantainescampestre.edu.co/event/dia-del-nino-y-la-recreacion-club-campestre/
END:VEVENT
BEGIN:VEVENT
DTSTART;TZID=America/Bogota:20240424T120000
DTEND;TZID=America/Bogota:20240424T170000
DTSTAMP:20260421T095803
CREATED:20240424T203845Z
LAST-MODIFIED:20240424T203845Z
UID:1545-1713960000-1713978000@www.colegiosantainescampestre.edu.co
SUMMARY:REUNION PADRES DE FAMILIA PRIMERA COMUNION
DESCRIPTION:
URL:https://www.colegiosantainescampestre.edu.co/event/reunion-padres-de-familia-primera-comunion/
END:VEVENT
BEGIN:VEVENT
DTSTART;TZID=America/Bogota:20240423T070000
DTEND;TZID=America/Bogota:20240423T080000
DTSTAMP:20260421T095803
CREATED:20240424T203019Z
LAST-MODIFIED:20240424T203019Z
UID:1529-1713855600-1713859200@www.colegiosantainescampestre.edu.co
SUMMARY:IZADA DE BANDERA Y EXALTACIONES PERIODO III
DESCRIPTION:
URL:https://www.colegiosantainescampestre.edu.co/event/izada-de-bandera-y-exaltaciones-periodo-iii/
END:VEVENT
END:VCALENDAR