BEGIN:VCALENDAR
VERSION:2.0
PRODID:-//Colegio Santa Ines - ECPv6.15.8//NONSGML v1.0//EN
CALSCALE:GREGORIAN
METHOD:PUBLISH
X-WR-CALNAME:Colegio Santa Ines
X-ORIGINAL-URL:https://www.colegiosantainescampestre.edu.co
X-WR-CALDESC:Eventos para Colegio Santa Ines
REFRESH-INTERVAL;VALUE=DURATION:PT1H
X-Robots-Tag:noindex
X-PUBLISHED-TTL:PT1H
BEGIN:VTIMEZONE
TZID:America/Bogota
BEGIN:STANDARD
TZOFFSETFROM:-0500
TZOFFSETTO:-0500
TZNAME:-05
DTSTART:20220101T000000
END:STANDARD
END:VTIMEZONE
BEGIN:VEVENT
DTSTART;TZID=America/Bogota:20240505T100000
DTEND;TZID=America/Bogota:20240505T150000
DTSTAMP:20260421T131137
CREATED:20240424T204147Z
LAST-MODIFIED:20240424T204147Z
UID:1553-1714903200-1714921200@www.colegiosantainescampestre.edu.co
SUMMARY:BUSINESS FAIR PROJECT
DESCRIPTION:
URL:https://www.colegiosantainescampestre.edu.co/event/business-fair-project/
END:VEVENT
BEGIN:VEVENT
DTSTART;VALUE=DATE:20240503
DTEND;VALUE=DATE:20240504
DTSTAMP:20260421T131137
CREATED:20240424T204102Z
LAST-MODIFIED:20240424T204102Z
UID:1551-1714694400-1714780799@www.colegiosantainescampestre.edu.co
SUMMARY:CONFERENCIAS DE EMPRENDIMIENTO
DESCRIPTION:
URL:https://www.colegiosantainescampestre.edu.co/event/conferencias-de-emprendimiento/
END:VEVENT
BEGIN:VEVENT
DTSTART;VALUE=DATE:20240503
DTEND;VALUE=DATE:20240504
DTSTAMP:20260421T131137
CREATED:20240424T203131Z
LAST-MODIFIED:20240424T203131Z
UID:1531-1714694400-1714780799@www.colegiosantainescampestre.edu.co
SUMMARY:ENTREGA DE INFORME VALORATIVO PERIODO III
DESCRIPTION:
URL:https://www.colegiosantainescampestre.edu.co/event/entrega-de-informe-valorativo-periodo-iii/
END:VEVENT
BEGIN:VEVENT
DTSTART;VALUE=DATE:20240430
DTEND;VALUE=DATE:20240501
DTSTAMP:20260421T131137
CREATED:20240424T204006Z
LAST-MODIFIED:20240424T204006Z
UID:1549-1714435200-1714521599@www.colegiosantainescampestre.edu.co
SUMMARY:DIA DEL NIÑO Y LA RECREACION (CLUB CAMPESTRE)
DESCRIPTION:
URL:https://www.colegiosantainescampestre.edu.co/event/dia-del-nino-y-la-recreacion-club-campestre/
END:VEVENT
BEGIN:VEVENT
DTSTART;TZID=America/Bogota:20240424T120000
DTEND;TZID=America/Bogota:20240424T170000
DTSTAMP:20260421T131137
CREATED:20240424T203845Z
LAST-MODIFIED:20240424T203845Z
UID:1545-1713960000-1713978000@www.colegiosantainescampestre.edu.co
SUMMARY:REUNION PADRES DE FAMILIA PRIMERA COMUNION
DESCRIPTION:
URL:https://www.colegiosantainescampestre.edu.co/event/reunion-padres-de-familia-primera-comunion/
END:VEVENT
BEGIN:VEVENT
DTSTART;TZID=America/Bogota:20240423T070000
DTEND;TZID=America/Bogota:20240423T080000
DTSTAMP:20260421T131137
CREATED:20240424T203019Z
LAST-MODIFIED:20240424T203019Z
UID:1529-1713855600-1713859200@www.colegiosantainescampestre.edu.co
SUMMARY:IZADA DE BANDERA Y EXALTACIONES PERIODO III
DESCRIPTION:
URL:https://www.colegiosantainescampestre.edu.co/event/izada-de-bandera-y-exaltaciones-periodo-iii/
END:VEVENT
BEGIN:VEVENT
DTSTART;VALUE=DATE:20240423
DTEND;VALUE=DATE:20240424
DTSTAMP:20260421T131137
CREATED:20240424T203922Z
LAST-MODIFIED:20240424T203922Z
UID:1547-1713830400-1713916799@www.colegiosantainescampestre.edu.co
SUMMARY:PROYECTO DIA DEL IDIOMA
DESCRIPTION:
URL:https://www.colegiosantainescampestre.edu.co/event/proyecto-dia-del-idioma/
END:VEVENT
BEGIN:VEVENT
DTSTART;VALUE=DATE:20240415
DTEND;VALUE=DATE:20240416
DTSTAMP:20260421T131137
CREATED:20240424T202826Z
LAST-MODIFIED:20240424T202826Z
UID:1527-1713139200-1713225599@www.colegiosantainescampestre.edu.co
SUMMARY:INICIO PERIODO IV
DESCRIPTION:
URL:https://www.colegiosantainescampestre.edu.co/event/inicio-periodo-iv/
END:VEVENT
BEGIN:VEVENT
DTSTART;TZID=America/Bogota:20240129T070000
DTEND;TZID=America/Bogota:20240202T140000
DTSTAMP:20260421T131137
CREATED:20231007T150430Z
LAST-MODIFIED:20231007T150430Z
UID:1492-1706511600-1706882400@www.colegiosantainescampestre.edu.co
SUMMARY:Evaluaciones Finales PeriodoII
DESCRIPTION:
URL:https://www.colegiosantainescampestre.edu.co/event/evaluaciones-finales-periodoii/
END:VEVENT
BEGIN:VEVENT
DTSTART;VALUE=DATE:20231218
DTEND;VALUE=DATE:20240110
DTSTAMP:20260421T131137
CREATED:20231007T150131Z
LAST-MODIFIED:20231007T150131Z
UID:1486-1702857600-1704844799@www.colegiosantainescampestre.edu.co
SUMMARY:VACACIONES DECEMBRINAS
DESCRIPTION:
URL:https://www.colegiosantainescampestre.edu.co/event/vacaciones-decembrinas-2/
END:VEVENT
BEGIN:VEVENT
DTSTART;VALUE=DATE:20231215
DTEND;VALUE=DATE:20231216
DTSTAMP:20260421T131137
CREATED:20231007T145951Z
LAST-MODIFIED:20231007T145951Z
UID:1484-1702598400-1702684799@www.colegiosantainescampestre.edu.co
SUMMARY:PROYECTO PASTORELA\, FESTIVAL DE BALLET Y MUSICAL DE NAVIDAD
DESCRIPTION:
URL:https://www.colegiosantainescampestre.edu.co/event/proyecto-pastorela-festival-de-ballet-y-musical-de-navidad/
END:VEVENT
BEGIN:VEVENT
DTSTART;VALUE=DATE:20231214
DTEND;VALUE=DATE:20231215
DTSTAMP:20260421T131137
CREATED:20231007T145908Z
LAST-MODIFIED:20231007T145908Z
UID:1482-1702512000-1702598399@www.colegiosantainescampestre.edu.co
SUMMARY:PROYECTO NAVIDAR\, RIFA DE ASOFAMILIA Y NOVENA DIA 8
DESCRIPTION:
URL:https://www.colegiosantainescampestre.edu.co/event/proyecto-navidar-rifa-de-asofamilia-y-novena-dia-8/
END:VEVENT
BEGIN:VEVENT
DTSTART;VALUE=DATE:20231213
DTEND;VALUE=DATE:20231214
DTSTAMP:20260421T131137
CREATED:20231007T145822Z
LAST-MODIFIED:20231007T145822Z
UID:1480-1702425600-1702511999@www.colegiosantainescampestre.edu.co
SUMMARY:NOVENA DIA 7
DESCRIPTION:
URL:https://www.colegiosantainescampestre.edu.co/event/novena-dia-7-2/
END:VEVENT
BEGIN:VEVENT
DTSTART;VALUE=DATE:20231212
DTEND;VALUE=DATE:20231213
DTSTAMP:20260421T131137
CREATED:20231007T145803Z
LAST-MODIFIED:20231007T145803Z
UID:1478-1702339200-1702425599@www.colegiosantainescampestre.edu.co
SUMMARY:NOVENA DIA 6
DESCRIPTION:
URL:https://www.colegiosantainescampestre.edu.co/event/novena-dia-6-2/
END:VEVENT
BEGIN:VEVENT
DTSTART;VALUE=DATE:20231211
DTEND;VALUE=DATE:20231212
DTSTAMP:20260421T131137
CREATED:20231007T145742Z
LAST-MODIFIED:20231007T145742Z
UID:1476-1702252800-1702339199@www.colegiosantainescampestre.edu.co
SUMMARY:NOVENA DIA 5
DESCRIPTION:
URL:https://www.colegiosantainescampestre.edu.co/event/novena-dia-5-2/
END:VEVENT
BEGIN:VEVENT
DTSTART;TZID=America/Bogota:20231207T080000
DTEND;TZID=America/Bogota:20231207T170000
DTSTAMP:20260421T131137
CREATED:20231007T145716Z
LAST-MODIFIED:20231007T145716Z
UID:1474-1701936000-1701968400@www.colegiosantainescampestre.edu.co
SUMMARY:NOVENA DIA 4\, HOMENAJE A LA INMACULADA  Y ALUMBRADO
DESCRIPTION:
URL:https://www.colegiosantainescampestre.edu.co/event/novena-dia-4-homenaje-a-la-inmaculada-y-alumbrado/
END:VEVENT
BEGIN:VEVENT
DTSTART;VALUE=DATE:20231206
DTEND;VALUE=DATE:20231207
DTSTAMP:20260421T131137
CREATED:20231007T145608Z
LAST-MODIFIED:20231007T145608Z
UID:1472-1701820800-1701907199@www.colegiosantainescampestre.edu.co
SUMMARY:NOVENA DIA 3
DESCRIPTION:
URL:https://www.colegiosantainescampestre.edu.co/event/novena-dia-3-2/
END:VEVENT
BEGIN:VEVENT
DTSTART;VALUE=DATE:20231205
DTEND;VALUE=DATE:20231206
DTSTAMP:20260421T131137
CREATED:20231007T145542Z
LAST-MODIFIED:20231007T145542Z
UID:1470-1701734400-1701820799@www.colegiosantainescampestre.edu.co
SUMMARY:NOVENA DIA 2
DESCRIPTION:
URL:https://www.colegiosantainescampestre.edu.co/event/novena-dia-2-2/
END:VEVENT
BEGIN:VEVENT
DTSTART;TZID=America/Bogota:20231204T070000
DTEND;TZID=America/Bogota:20231207T140000
DTSTAMP:20260421T131137
CREATED:20231007T145446Z
LAST-MODIFIED:20231007T145446Z
UID:1466-1701673200-1701957600@www.colegiosantainescampestre.edu.co
SUMMARY:Evaluaciones Intermedias Periodo II
DESCRIPTION:
URL:https://www.colegiosantainescampestre.edu.co/event/evaluaciones-intermedias-periodo-ii-3/
END:VEVENT
BEGIN:VEVENT
DTSTART;VALUE=DATE:20231204
DTEND;VALUE=DATE:20231205
DTSTAMP:20260421T131137
CREATED:20231007T145525Z
LAST-MODIFIED:20231007T145525Z
UID:1468-1701648000-1701734399@www.colegiosantainescampestre.edu.co
SUMMARY:NOVENA DIA 1
DESCRIPTION:
URL:https://www.colegiosantainescampestre.edu.co/event/novena-dia-1-2/
END:VEVENT
BEGIN:VEVENT
DTSTART;VALUE=DATE:20231201
DTEND;VALUE=DATE:20231202
DTSTAMP:20260421T131137
CREATED:20231007T145340Z
LAST-MODIFIED:20231007T145340Z
UID:1464-1701388800-1701475199@www.colegiosantainescampestre.edu.co
SUMMARY:Reunion de Padres de Familia\, Entrega de Boletines Periodo I
DESCRIPTION:
URL:https://www.colegiosantainescampestre.edu.co/event/reunion-de-padres-de-familia-entrega-de-boletines-periodo-i/
END:VEVENT
BEGIN:VEVENT
DTSTART;VALUE=DATE:20231122
DTEND;VALUE=DATE:20231123
DTSTAMP:20260421T131137
CREATED:20231007T150325Z
LAST-MODIFIED:20231007T150325Z
UID:1490-1700611200-1700697599@www.colegiosantainescampestre.edu.co
SUMMARY:INAUGURACION JUEGOS INTERCLASES
DESCRIPTION:
URL:https://www.colegiosantainescampestre.edu.co/event/inauguracion-juegos-interclases/
END:VEVENT
BEGIN:VEVENT
DTSTART;VALUE=DATE:20231122
DTEND;VALUE=DATE:20231123
DTSTAMP:20260421T131137
CREATED:20231007T150235Z
LAST-MODIFIED:20231007T150235Z
UID:1488-1700611200-1700697599@www.colegiosantainescampestre.edu.co
SUMMARY:PROYECTO CUMPLEAÑOS  61 DEL COLEGIO
DESCRIPTION:
URL:https://www.colegiosantainescampestre.edu.co/event/proyecto-cumpleanos-61-del-colegio/
END:VEVENT
BEGIN:VEVENT
DTSTART;VALUE=DATE:20231121
DTEND;VALUE=DATE:20231122
DTSTAMP:20260421T131137
CREATED:20231007T145232Z
LAST-MODIFIED:20231007T145232Z
UID:1462-1700524800-1700611199@www.colegiosantainescampestre.edu.co
SUMMARY:Izada de Bandera Periodo I
DESCRIPTION:
URL:https://www.colegiosantainescampestre.edu.co/event/izada-de-bandera-periodo-i/
END:VEVENT
BEGIN:VEVENT
DTSTART;TZID=America/Bogota:20231114T070000
DTEND;TZID=America/Bogota:20240202T170000
DTSTAMP:20260421T131137
CREATED:20231007T145148Z
LAST-MODIFIED:20231007T145148Z
UID:1460-1699945200-1706893200@www.colegiosantainescampestre.edu.co
SUMMARY:Inicio del Segundo Periodo
DESCRIPTION:
URL:https://www.colegiosantainescampestre.edu.co/event/inicio-del-segundo-periodo/
END:VEVENT
BEGIN:VEVENT
DTSTART;VALUE=DATE:20231110
DTEND;VALUE=DATE:20231111
DTSTAMP:20260421T131137
CREATED:20231007T145053Z
LAST-MODIFIED:20231007T145053Z
UID:1458-1699574400-1699660799@www.colegiosantainescampestre.edu.co
SUMMARY:Finaliza el Primer Periodo
DESCRIPTION:
URL:https://www.colegiosantainescampestre.edu.co/event/finaliza-el-primer-periodo/
END:VEVENT
BEGIN:VEVENT
DTSTART;TZID=America/Bogota:20231103T070000
DTEND;TZID=America/Bogota:20231109T140000
DTSTAMP:20260421T131137
CREATED:20231007T145017Z
LAST-MODIFIED:20231007T145017Z
UID:1456-1698994800-1699538400@www.colegiosantainescampestre.edu.co
SUMMARY:Evaluaciones Finales Primer Periodo
DESCRIPTION:
URL:https://www.colegiosantainescampestre.edu.co/event/evaluaciones-finales-primer-periodo/
END:VEVENT
BEGIN:VEVENT
DTSTART;VALUE=DATE:20231027
DTEND;VALUE=DATE:20231028
DTSTAMP:20260421T131137
CREATED:20231007T144857Z
LAST-MODIFIED:20231007T144857Z
UID:1454-1698364800-1698451199@www.colegiosantainescampestre.edu.co
SUMMARY:DIA DE LA FANTASIA
DESCRIPTION:
URL:https://www.colegiosantainescampestre.edu.co/event/dia-de-la-fantasia-2/
END:VEVENT
BEGIN:VEVENT
DTSTART;VALUE=DATE:20231019
DTEND;VALUE=DATE:20231020
DTSTAMP:20260421T131137
CREATED:20231007T144831Z
LAST-MODIFIED:20231007T144831Z
UID:1452-1697673600-1697759999@www.colegiosantainescampestre.edu.co
SUMMARY:MULTICULTURALIDAD Y JORNADA DE LA PAZ
DESCRIPTION:
URL:https://www.colegiosantainescampestre.edu.co/event/multiculturalidad-y-jornada-de-la-paz/
END:VEVENT
BEGIN:VEVENT
DTSTART;VALUE=DATE:20231009
DTEND;VALUE=DATE:20231014
DTSTAMP:20260421T131137
CREATED:20231007T144740Z
LAST-MODIFIED:20231007T144740Z
UID:1450-1696809600-1697241599@www.colegiosantainescampestre.edu.co
SUMMARY:Semana de Receso
DESCRIPTION:
URL:https://www.colegiosantainescampestre.edu.co/event/semana-de-receso-2/
END:VEVENT
END:VCALENDAR