BEGIN:VCALENDAR
VERSION:2.0
PRODID:-//Colegio Santa Ines - ECPv6.15.8//NONSGML v1.0//EN
CALSCALE:GREGORIAN
METHOD:PUBLISH
X-ORIGINAL-URL:https://www.colegiosantainescampestre.edu.co
X-WR-CALDESC:Eventos para Colegio Santa Ines
REFRESH-INTERVAL;VALUE=DURATION:PT1H
X-Robots-Tag:noindex
X-PUBLISHED-TTL:PT1H
BEGIN:VTIMEZONE
TZID:America/Bogota
BEGIN:STANDARD
TZOFFSETFROM:-0500
TZOFFSETTO:-0500
TZNAME:-05
DTSTART:20210101T000000
END:STANDARD
END:VTIMEZONE
BEGIN:VEVENT
DTSTART;VALUE=DATE:20230304
DTEND;VALUE=DATE:20230305
DTSTAMP:20260421T213534
CREATED:20230114T133353Z
LAST-MODIFIED:20230114T133353Z
UID:1308-1677888000-1677974399@www.colegiosantainescampestre.edu.co
SUMMARY:CICLO PASEO
DESCRIPTION:
URL:https://www.colegiosantainescampestre.edu.co/event/ciclo-paseo/
END:VEVENT
BEGIN:VEVENT
DTSTART;VALUE=DATE:20230303
DTEND;VALUE=DATE:20230304
DTSTAMP:20260421T213534
CREATED:20230114T133301Z
LAST-MODIFIED:20230114T133301Z
UID:1306-1677801600-1677887999@www.colegiosantainescampestre.edu.co
SUMMARY:Acto Protocolario por la conmemoración de su sexagésimo aniversario de fundación
DESCRIPTION:
URL:https://www.colegiosantainescampestre.edu.co/event/acto-protocolario-por-la-conmemoracion-de-su-sexagesimo-aniversario-de-fundacion/
END:VEVENT
BEGIN:VEVENT
DTSTART;VALUE=DATE:20230227
DTEND;VALUE=DATE:20230303
DTSTAMP:20260421T213534
CREATED:20221007T192556Z
LAST-MODIFIED:20221007T192556Z
UID:1165-1677456000-1677801599@www.colegiosantainescampestre.edu.co
SUMMARY:REUNIÓN DE PADRES DE FAMILIA
DESCRIPTION:
URL:https://www.colegiosantainescampestre.edu.co/event/reunion-de-padres-de-familia-2/
END:VEVENT
BEGIN:VEVENT
DTSTART;VALUE=DATE:20230224
DTEND;VALUE=DATE:20230225
DTSTAMP:20260421T213534
CREATED:20221007T192504Z
LAST-MODIFIED:20221007T192504Z
UID:1163-1677196800-1677283199@www.colegiosantainescampestre.edu.co
SUMMARY:COMITÉ DE CONVIVENCIA PERIODO II
DESCRIPTION:
URL:https://www.colegiosantainescampestre.edu.co/event/comite-de-convivencia-periodo-ii/
END:VEVENT
BEGIN:VEVENT
DTSTART;VALUE=DATE:20230224
DTEND;VALUE=DATE:20230225
DTSTAMP:20260421T213534
CREATED:20221007T192340Z
LAST-MODIFIED:20221007T192340Z
UID:1161-1677196800-1677283199@www.colegiosantainescampestre.edu.co
SUMMARY:COMISIÓN DE EVALUACIÓN Y PROMOCIÓN PERIODO II
DESCRIPTION:
URL:https://www.colegiosantainescampestre.edu.co/event/comision-de-evaluacion-y-promocion-periodo-ii/
END:VEVENT
BEGIN:VEVENT
DTSTART;VALUE=DATE:20230222
DTEND;VALUE=DATE:20230223
DTSTAMP:20260421T213534
CREATED:20221007T192244Z
LAST-MODIFIED:20221007T192244Z
UID:1159-1677024000-1677110399@www.colegiosantainescampestre.edu.co
SUMMARY:DÍA DE LA SANTA CENIZA
DESCRIPTION:
URL:https://www.colegiosantainescampestre.edu.co/event/dia-de-la-santa-ceniza/
END:VEVENT
BEGIN:VEVENT
DTSTART;TZID=America/Bogota:20230221T080000
DTEND;TZID=America/Bogota:20230221T100000
DTSTAMP:20260421T213534
CREATED:20221007T192215Z
LAST-MODIFIED:20221007T192215Z
UID:1157-1676966400-1676973600@www.colegiosantainescampestre.edu.co
SUMMARY:IZADA DE BANDERA PERIODO II
DESCRIPTION:
URL:https://www.colegiosantainescampestre.edu.co/event/izada-de-bandera-periodo-ii/
END:VEVENT
BEGIN:VEVENT
DTSTART;VALUE=DATE:20230217
DTEND;VALUE=DATE:20230218
DTSTAMP:20260421T213534
CREATED:20221007T192030Z
LAST-MODIFIED:20221007T192118Z
UID:1155-1676592000-1676678399@www.colegiosantainescampestre.edu.co
SUMMARY:PROYECTO DE INAGURACION JUEGOS DE INTERCLASES
DESCRIPTION:
URL:https://www.colegiosantainescampestre.edu.co/event/proyecto-de-inaguracion-juegos-de-interclases/
END:VEVENT
BEGIN:VEVENT
DTSTART;VALUE=DATE:20230214
DTEND;VALUE=DATE:20230215
DTSTAMP:20260421T213534
CREATED:20221007T191925Z
LAST-MODIFIED:20221007T191925Z
UID:1153-1676332800-1676419199@www.colegiosantainescampestre.edu.co
SUMMARY:PROYECTO DE SAN VALENTIN SPELLING BEE
DESCRIPTION:
URL:https://www.colegiosantainescampestre.edu.co/event/proyecto-de-san-valentin-spelling-bee/
END:VEVENT
BEGIN:VEVENT
DTSTART;VALUE=DATE:20230213
DTEND;VALUE=DATE:20230218
DTSTAMP:20260421T213534
CREATED:20221007T191739Z
LAST-MODIFIED:20221007T191739Z
UID:1151-1676246400-1676678399@www.colegiosantainescampestre.edu.co
SUMMARY:SEMANA CULTURAL 60 AÑOS
DESCRIPTION:
URL:https://www.colegiosantainescampestre.edu.co/event/semana-cultural-60-anos/
END:VEVENT
BEGIN:VEVENT
DTSTART;VALUE=DATE:20230206
DTEND;VALUE=DATE:20230207
DTSTAMP:20260421T213534
CREATED:20221007T191618Z
LAST-MODIFIED:20221007T191618Z
UID:1149-1675641600-1675727999@www.colegiosantainescampestre.edu.co
SUMMARY:INICIA PERIODO III
DESCRIPTION:
URL:https://www.colegiosantainescampestre.edu.co/event/inicia-periodo-iii/
END:VEVENT
BEGIN:VEVENT
DTSTART;VALUE=DATE:20230203
DTEND;VALUE=DATE:20230204
DTSTAMP:20260421T213534
CREATED:20221007T191554Z
LAST-MODIFIED:20221007T191554Z
UID:1147-1675382400-1675468799@www.colegiosantainescampestre.edu.co
SUMMARY:FINALIZA PERIODO II
DESCRIPTION:
URL:https://www.colegiosantainescampestre.edu.co/event/finaliza-periodo-ii/
END:VEVENT
BEGIN:VEVENT
DTSTART;TZID=America/Bogota:20230130T070000
DTEND;TZID=America/Bogota:20230202T140000
DTSTAMP:20260421T213534
CREATED:20221007T191515Z
LAST-MODIFIED:20221007T191515Z
UID:1145-1675062000-1675346400@www.colegiosantainescampestre.edu.co
SUMMARY:EVALUACIONES FINALES PERIODO II
DESCRIPTION:
URL:https://www.colegiosantainescampestre.edu.co/event/evaluaciones-finales-periodo-ii/
END:VEVENT
BEGIN:VEVENT
DTSTART;VALUE=DATE:20230111
DTEND;VALUE=DATE:20230112
DTSTAMP:20260421T213534
CREATED:20221007T191229Z
LAST-MODIFIED:20221007T191229Z
UID:1143-1673395200-1673481599@www.colegiosantainescampestre.edu.co
SUMMARY:PRESENTACIÓN DEL PROYECTO DEL ANUARIO
DESCRIPTION:
URL:https://www.colegiosantainescampestre.edu.co/event/presentacion-del-proyecto-del-anuario/
END:VEVENT
BEGIN:VEVENT
DTSTART;VALUE=DATE:20230110
DTEND;VALUE=DATE:20230111
DTSTAMP:20260421T213534
CREATED:20221007T191138Z
LAST-MODIFIED:20221007T191138Z
UID:1141-1673308800-1673395199@www.colegiosantainescampestre.edu.co
SUMMARY:INGRESO DE ESTUDIANTES
DESCRIPTION:
URL:https://www.colegiosantainescampestre.edu.co/event/ingreso-de-estudiantes/
END:VEVENT
BEGIN:VEVENT
DTSTART;VALUE=DATE:20221219
DTEND;VALUE=DATE:20230101
DTSTAMP:20260421T213534
CREATED:20221007T171607Z
LAST-MODIFIED:20221007T171607Z
UID:1139-1671408000-1672531199@www.colegiosantainescampestre.edu.co
SUMMARY:VACACIONES DECEMBRINAS
DESCRIPTION:
URL:https://www.colegiosantainescampestre.edu.co/event/vacaciones-decembrinas/
END:VEVENT
BEGIN:VEVENT
DTSTART;VALUE=DATE:20221215
DTEND;VALUE=DATE:20221216
DTSTAMP:20260421T213534
CREATED:20221007T171520Z
LAST-MODIFIED:20221007T171520Z
UID:1137-1671062400-1671148799@www.colegiosantainescampestre.edu.co
SUMMARY:PROYECTO FESTIVAL DE NAVIDAD Y PASTORELA
DESCRIPTION:
URL:https://www.colegiosantainescampestre.edu.co/event/proyecto-festival-de-navidad-y-pastorela/
END:VEVENT
BEGIN:VEVENT
DTSTART;TZID=America/Bogota:20221214T080000
DTEND;TZID=America/Bogota:20221214T100000
DTSTAMP:20260421T213534
CREATED:20221007T171246Z
LAST-MODIFIED:20221007T171246Z
UID:1133-1671004800-1671012000@www.colegiosantainescampestre.edu.co
SUMMARY:NOVENA DÍA 8
DESCRIPTION:
URL:https://www.colegiosantainescampestre.edu.co/event/novena-dia-8/
END:VEVENT
BEGIN:VEVENT
DTSTART;VALUE=DATE:20221214
DTEND;VALUE=DATE:20221215
DTSTAMP:20260421T213534
CREATED:20221007T171346Z
LAST-MODIFIED:20221007T171346Z
UID:1135-1670976000-1671062399@www.colegiosantainescampestre.edu.co
SUMMARY:PROYECTO NAVIDAR
DESCRIPTION:
URL:https://www.colegiosantainescampestre.edu.co/event/proyecto-navidar/
END:VEVENT
BEGIN:VEVENT
DTSTART;TZID=America/Bogota:20221213T080000
DTEND;TZID=America/Bogota:20221213T100000
DTSTAMP:20260421T213534
CREATED:20221007T171213Z
LAST-MODIFIED:20221007T171213Z
UID:1131-1670918400-1670925600@www.colegiosantainescampestre.edu.co
SUMMARY:NOVENA DÍA 7
DESCRIPTION:
URL:https://www.colegiosantainescampestre.edu.co/event/novena-dia-7/
END:VEVENT
BEGIN:VEVENT
DTSTART;TZID=America/Bogota:20221212T080000
DTEND;TZID=America/Bogota:20221212T120000
DTSTAMP:20260421T213534
CREATED:20221007T171117Z
LAST-MODIFIED:20221007T171117Z
UID:1129-1670832000-1670846400@www.colegiosantainescampestre.edu.co
SUMMARY:NOVENA DÍA 6
DESCRIPTION:
URL:https://www.colegiosantainescampestre.edu.co/event/novena-dia-6/
END:VEVENT
BEGIN:VEVENT
DTSTART;TZID=America/Bogota:20221209T080000
DTEND;TZID=America/Bogota:20221209T100000
DTSTAMP:20260421T213534
CREATED:20221007T171039Z
LAST-MODIFIED:20221007T171039Z
UID:1127-1670572800-1670580000@www.colegiosantainescampestre.edu.co
SUMMARY:NOVENA DÍA 5
DESCRIPTION:
URL:https://www.colegiosantainescampestre.edu.co/event/novena-dia-5/
END:VEVENT
BEGIN:VEVENT
DTSTART;TZID=America/Bogota:20221209T070000
DTEND;TZID=America/Bogota:20221209T120000
DTSTAMP:20260421T213534
CREATED:20221007T170625Z
LAST-MODIFIED:20221007T170625Z
UID:1115-1670569200-1670587200@www.colegiosantainescampestre.edu.co
SUMMARY:EVALUACIONES INTERMEDIAS PERIODO II
DESCRIPTION:
URL:https://www.colegiosantainescampestre.edu.co/event/evaluaciones-intermedias-periodo-ii-2/
END:VEVENT
BEGIN:VEVENT
DTSTART;TZID=America/Bogota:20221207T080000
DTEND;TZID=America/Bogota:20221207T100000
DTSTAMP:20260421T213534
CREATED:20221007T170830Z
LAST-MODIFIED:20221007T170830Z
UID:1121-1670400000-1670407200@www.colegiosantainescampestre.edu.co
SUMMARY:NOVENA DIA 4
DESCRIPTION:
URL:https://www.colegiosantainescampestre.edu.co/event/novena-dia-4/
END:VEVENT
BEGIN:VEVENT
DTSTART;VALUE=DATE:20221207
DTEND;VALUE=DATE:20221208
DTSTAMP:20260421T213534
CREATED:20221007T170959Z
LAST-MODIFIED:20221007T170959Z
UID:1125-1670371200-1670457599@www.colegiosantainescampestre.edu.co
SUMMARY:HOMENAJE A LA INMACULADA Y ALUMBRADO
DESCRIPTION:
URL:https://www.colegiosantainescampestre.edu.co/event/homenaje-a-la-inmaculada-y-alumbrado/
END:VEVENT
BEGIN:VEVENT
DTSTART;TZID=America/Bogota:20221206T080000
DTEND;TZID=America/Bogota:20221206T100000
DTSTAMP:20260421T213534
CREATED:20221007T170743Z
LAST-MODIFIED:20221007T170743Z
UID:1119-1670313600-1670320800@www.colegiosantainescampestre.edu.co
SUMMARY:NOVENA DIA 3
DESCRIPTION:
URL:https://www.colegiosantainescampestre.edu.co/event/novena-dia-3/
END:VEVENT
BEGIN:VEVENT
DTSTART;VALUE=DATE:20221206
DTEND;VALUE=DATE:20221207
DTSTAMP:20260421T213534
CREATED:20221007T170915Z
LAST-MODIFIED:20221007T170915Z
UID:1123-1670284800-1670371199@www.colegiosantainescampestre.edu.co
SUMMARY:REUNIÓN DE PADRES DE FAMILIA GRADO CRISALIDA
DESCRIPTION:
URL:https://www.colegiosantainescampestre.edu.co/event/reunion-de-padres-de-familia-grado-crisalida/
END:VEVENT
BEGIN:VEVENT
DTSTART;TZID=America/Bogota:20221205T080000
DTEND;TZID=America/Bogota:20221205T100000
DTSTAMP:20260421T213534
CREATED:20221007T170657Z
LAST-MODIFIED:20221007T170657Z
UID:1117-1670227200-1670234400@www.colegiosantainescampestre.edu.co
SUMMARY:NOVENA DIA 2
DESCRIPTION:
URL:https://www.colegiosantainescampestre.edu.co/event/novena-dia-2/
END:VEVENT
BEGIN:VEVENT
DTSTART;TZID=America/Bogota:20221205T070000
DTEND;TZID=America/Bogota:20221207T140000
DTSTAMP:20260421T213534
CREATED:20221007T170535Z
LAST-MODIFIED:20221007T170535Z
UID:1113-1670223600-1670421600@www.colegiosantainescampestre.edu.co
SUMMARY:EVALUACIONES INTERMEDIAS PERIODO II
DESCRIPTION:
URL:https://www.colegiosantainescampestre.edu.co/event/evaluaciones-intermedias-periodo-ii/
END:VEVENT
BEGIN:VEVENT
DTSTART;TZID=America/Bogota:20221202T080000
DTEND;TZID=America/Bogota:20221202T100000
DTSTAMP:20260421T213534
CREATED:20221007T170227Z
LAST-MODIFIED:20221007T170227Z
UID:1111-1669968000-1669975200@www.colegiosantainescampestre.edu.co
SUMMARY:NOVENA DIA 1
DESCRIPTION:
URL:https://www.colegiosantainescampestre.edu.co/event/novena-dia-1/
END:VEVENT
END:VCALENDAR